BEGIN:VCALENDAR
VERSION:2.0
METHOD:PUBLISH
PRODID:Wuppertal-Live ICal v9.0 R38/39
BEGIN:VEVENT
CLASS:PUBLIC
DESCRIPTION:weitere Termininfos und Ticketbuchung unter https://www.solinge
 n-live.de/ical/624107 
DTEND;TZID=Europe/Berlin:20260426T210000
DTSTAMP:20260420T095447Z
DTSTART;TZID=Europe/Berlin:20260426T190000
LOCATION:Waldmeister\, Holbeinstr. 8\, 42719 Solingen
PRIORITY:5
SEQUENCE:0
SUMMARY:Thomas von Hof -- Betreutes Denken: Mentalmagie &amp\; Hypnose-Show
 
TRANSP:OPAQUE
UID:624107:www.solingen-live.de
URL:https://www.solingen-live.de/ical/624107
END:VEVENT
END:VCALENDAR
