BEGIN:VCALENDAR
VERSION:2.0
METHOD:PUBLISH
PRODID:Wuppertal-Live ICal v9.0 R38/39
BEGIN:VEVENT
CLASS:PUBLIC
DESCRIPTION:weitere Termininfos unter https://www.remscheid-live.de/ical/62
 2276 
DTEND;TZID=Europe/Berlin:20260524T000000
DTSTAMP:20260422T163025Z
DTSTART;TZID=Europe/Berlin:20260523T220000
LOCATION:Déjà-vu\, Lenhartzhammer 4\, 42899 Remscheid
PRIORITY:5
SEQUENCE:0
SUMMARY:DJ McFly · DJ Volker -- 80-er Party
TRANSP:OPAQUE
UID:622276:www.remscheid-live.de
URL:https://www.remscheid-live.de/ical/622276
END:VEVENT
END:VCALENDAR
