BEGIN:VCALENDAR
VERSION:2.0
METHOD:PUBLISH
PRODID:Wuppertal-Live ICal v9.0 R38/39
BEGIN:VEVENT
CLASS:PUBLIC
DESCRIPTION:weitere Termininfos unter https://www.bergisch-live.de/ical/614
 981 
DTEND;TZID=Europe/Berlin:20260423T220000
DTSTAMP:20260421T161807Z
DTSTART;TZID=Europe/Berlin:20260423T200000
LOCATION:Film-Eck Wermelskirchen\, Telegrafenstr. 1\, 42929 Wermelskirchen
PRIORITY:5
SEQUENCE:0
SUMMARY:Zoom!
TRANSP:OPAQUE
UID:614981:www.bergisch-live.de
URL:https://www.bergisch-live.de/ical/614981
END:VEVENT
END:VCALENDAR
