BEGIN:VCALENDAR
VERSION:2.0
METHOD:PUBLISH
PRODID:Wuppertal-Live ICal v9.0 R38/39
BEGIN:VEVENT
CLASS:PUBLIC
DESCRIPTION:weitere Termininfos unter https://www.bergisch-live.de/ical/604
 882 
DTEND;TZID=Europe/Berlin:20261025T180000
DTSTAMP:20260421T164254Z
DTSTART;TZID=Europe/Berlin:20261025T130000
LOCATION:Wermelskirchen Innenstadt\,  \, 42929 Wermelskirchen
PRIORITY:5
SEQUENCE:0
SUMMARY:Verkaufsoffener Sonntag zu Wermelskirchen à la carte
TRANSP:OPAQUE
UID:604882:www.bergisch-live.de
URL:https://www.bergisch-live.de/ical/604882
END:VEVENT
END:VCALENDAR
